BEGIN:VCALENDAR
VERSION:2.0
PRODID:-//Katolsk//Calendar//EN
BEGIN:VEVENT
UID:46bc75411ca19294d1dcaa131b0d7763
SUMMARY:Misjon2030
DTSTAMP:20260421T122049Z
DTSTART;VALUE=DATE:20260410
DTEND;VALUE=DATE:20260413
DESCRIPTION:Programmet for Misjon2030 i Trondheim\, 10.-12. april\, er klart.  Tema for samlingen er "Velg livet!".  Utgangspunktet er: Hvordan kan Olavsarven inspirere oss i dag? I fjor feiret vi kristenretten og så hvordan den kristne visjonen av mennesket ble kommunisert gjennom lovverket. Olavs kristningsverk er et konstruktivt og fruktbart utgangspunkt for årets tema\, «Velg livet!».   Livsvern\, livsrespekt og livsfryd\, står som stikkord for denne samlingen. Til Trondheim kommer også fire sø...
END:VEVENT
END:VCALENDAR
