BEGIN:VCALENDAR
VERSION:2.0
PRODID:-//Katolsk//Calendar//EN
BEGIN:VEVENT
UID:32ecec71ff30a5ca5caa2667b0eebc71
SUMMARY:Årets middelalderseminar på Utstein kloster: KRONE OVER KORS? Spenninger mellom konge og kirke i middelalderen.
DTSTAMP:20260422T052454Z
DTSTART:20260905T080000Z
DTEND:20260905T130000Z
DESCRIPTION:Utstein kloster på Mosterøy i Stavanger kommune er Norges eneste bevarte middelalderkloster. På det årlige middelalderseminaret får deltakerne innsikt\, erfaring – og ikke minst en opplevelse av det unike stedet som Utstein kloster er. Seminaromtale: Gjennom hele middelalderen pågikk en intens kompetansestrid mellom pavens og kongers og keiseres myndighet. Begge parter hevdet at den andre part var underordnet dem selv\, og de anla avanserte teologiske og juridiske teoretiseringer ...
LOCATION:Anlegget Utstein kloster
END:VEVENT
END:VCALENDAR
