BEGIN:VCALENDAR
VERSION:2.0
PRODID:-//Katolsk//Calendar//EN
BEGIN:VEVENT
UID:bbf9de309cadf9cd7e3974047792f6e2
SUMMARY:Retrett: Hellighet i hverdagen
DTSTAMP:20260419T152406Z
DTSTART;VALUE=DATE:20260117
DTEND;VALUE=DATE:20260118
DESCRIPTION: En månedlig samling i stillhet og refleksjon om hvordan vi kan leve troen midt i arbeid\, familieliv og i møte med andre mennesker.Retretten vil bli holdt av p. Peter Damian-Grint. Retretten Hellighet i hverdagen arrangeres i to separate samlinger samme dag: én for kvinner (lørdag formiddag) og én for menn (lørdag ettermiddag).   Hellighet i hverdagen Retrett for kvinner (lørdag formiddag):  En månedlig samling i stillhet og refleksjon om hvordan vi kan leve troen midt i arbeid\, f...
LOCATION:St. Elisabeth kirke
END:VEVENT
END:VCALENDAR
