BEGIN:VCALENDAR
VERSION:2.0
PRODID:-//Katolsk//Calendar//EN
BEGIN:VEVENT
UID:d4b6d78c5edaed52ee7538260297839f
SUMMARY:Levende julekrybbe i Fredrikstad🎄💫
DTSTAMP:20260421T122049Z
DTSTART:20251214T110000Z
DTEND:20251214T130000Z
DESCRIPTION:VELKOMMEN TIL LEVENDE JULEKRYBBE      Julemarked med salg av mat og juleartikler   All inntekt går til karitativt arbeid. Messe kl. 12.00 Konsert kl. 13.00  
LOCATION:St. Birgitta kirke
END:VEVENT
END:VCALENDAR
