BEGIN:VCALENDAR
VERSION:2.0
PRODID:-//Katolsk//Calendar//EN
BEGIN:VEVENT
UID:cbfc3d7c268f7780dc1bdd832ec5096f
SUMMARY:Roratemesser i St. Ansgar 
DTSTAMP:20260421T162750Z
DTSTART:20251203T053000Z
DTEND:20251203T061500Z
DESCRIPTION: 
LOCATION:St. Ansgar kirke 
END:VEVENT
END:VCALENDAR
