BEGIN:VCALENDAR
VERSION:2.0
PRODID:-//Katolsk//Calendar//EN
BEGIN:VEVENT
UID:d7a8572aee56fe2c9c260d51abaa5608
SUMMARY:Katolsk forum i St. Ansgar menighet: Kirkens helgener fra moderne tid
DTSTAMP:20260421T053718Z
DTSTART:20251126T174500Z
DTEND:20251126T191500Z
DESCRIPTION:Onsdag 26. november kl. 18:45 –  kommer Frode Thorup til å fortelle om ‘Kirkens helgener fra moderne tid’. Frode Thorup er kardiolog av yrke\, og tilhører vår menighet.  Han er en som i stor grad er blitt grepet av Kirkens salige og hellige. I dette foredraget vil han dele om mange av våre mer moderne helgener\, ogfortelle om deres liv med Kristus\, både før og etter deres død.Kom for å bli styrket i troen og inspirert av Kirkens kanskje største skatt\; våre forbilder og forbed...
LOCATION:St. Ansgar menighet\,
END:VEVENT
END:VCALENDAR
