BEGIN:VCALENDAR
VERSION:2.0
PRODID:-//Katolsk//Calendar//EN
BEGIN:VEVENT
UID:11ad3c36d439fad4e38a4043db489e0f
SUMMARY:Seminar: Dilexi te – Pave Leo XIV om Kirken og de fattige
DTSTAMP:20260420T062054Z
DTSTART:20251206T100000Z
DTEND:20251206T133000Z
DESCRIPTION:     Lørdag 6. desember inviterer Kirken og Caritas til seminar med tittelen «Dilexi te – Pave Leo XIV om Kirken og de fattige». – Dette er pave Leo XIVs første store dokument som Kirkens overhyrde. For meg er det viktig at vi som bispedømme tar det imot\, leser det nøye og grunner over hva det ber av oss\, sier biskop Fredrik Hansen. Les mer om seminaret. Påmelding: Meld deg på her!   Program for seminaret Lørdag 6. desember 2025 Kl. 11.00: Menighetens lørdagsmesse Kl. 11.30:...
LOCATION: St. Hallvard menighet\,
END:VEVENT
END:VCALENDAR
