BEGIN:VCALENDAR
VERSION:2.0
PRODID:-//Katolsk//Calendar//EN
BEGIN:VEVENT
UID:fe080ac24ab4736fed69eb92b16a5d2b
SUMMARY:Til skaperverkets pris: Laudato Si’ – ti år etter
DTSTAMP:20260420T205451Z
DTSTART:20251120T174500Z
DTEND:20251120T193000Z
DESCRIPTION: 
LOCATION:St. Hallvard kirke\,
END:VEVENT
END:VCALENDAR
