BEGIN:VCALENDAR
VERSION:2.0
PRODID:-//Katolsk//Calendar//EN
BEGIN:VEVENT
UID:02fa3be95b719c48fbe64e1485fb91a6
SUMMARY:Workshop for katolske lærere\, kateketer og barne- og ungdomsarbeidere
DTSTAMP:20260420T050429Z
DTSTART;VALUE=DATE:20260129
DTEND;VALUE=DATE:20260201
DESCRIPTION:TROSFORMIDLING OG FORMASJON I SKOLE OG KATEKESE       DATO: 29.–31. januar 2026STED: Mariagården\, Akersveien 16B\, OsloTEMA: Trosformidling og formasjon i skole og katekeseFelles workshop mellom Skolekontoret\, Kateketisk senter\, NUK\, forskere fra FAITHED-prosjektet og NLA Høgskolen.Målgruppe: lærere\, kateketer\, prester\, studenter og andre interesserte. Fokus på skole torsdag–fredag formiddag/ettermiddag Fokus på katekese fredag ettermiddag/kveld–lørdag Program med bønn\, messe...
LOCATION:Mariagården
END:VEVENT
END:VCALENDAR
