BEGIN:VCALENDAR
VERSION:2.0
PRODID:-//Katolsk//Calendar//EN
BEGIN:VEVENT
UID:24b5ba5417b1f2d19bf5b2c535879468
SUMMARY:Katolsk Forum om 1700-årsjubileet for kirkemøtet i Nikea
DTSTAMP:20260425T203842Z
DTSTART:20251113T180000Z
DTEND:20251113T200000Z
DESCRIPTION:1700-årsjubileum for kirkemøtet i Nikea – hva skjedde der\, og hvorfor er det fortsatt aktuelt? Peder K. Solberg Kirkemøtet i Nikea i 325 var det første konsilet etter at keiseren i Romerriket var blitt kristen. I år er det 1700 år siden denne viktige milepælen i kristendommens historie. Hver søndag synger vi den nikenske trosbekjennelsen\, som fortsatt definerer økumenisk kristen tro. Hva sto på spill ved kirkemøtet i Nikea\, hva skjedde der\, og hvorfor er dette aktuelt for oss i d...
LOCATION:Klosterlasses gate 1
END:VEVENT
END:VCALENDAR
