BEGIN:VCALENDAR
VERSION:2.0
PRODID:-//Katolsk//Calendar//EN
BEGIN:VEVENT
UID:4759d4ed208b6cb79d5a1d4460d2fa78
SUMMARY:Katolsk Forum om det katolske menneskesynet: Skapt i Guds bilde\, kalt til kjærlighet
DTSTAMP:20260421T122046Z
DTSTART:20251126T180000Z
DTEND:20251126T200000Z
DESCRIPTION:Hva er Den katolske kirkes menneskesyn\, hva er dets teologiske forankring og hva betyr det for oss i dag? Dette er noe av det Pål Koren Pedersen vil belyse i sitt foredrag.  Kirken har et rikt og vakkert menneskesyn. Det kommer til uttrykk i Kirkens forståelse av seg selv\, i Kirkens sosiallære og taler til oss\, både i hverdagens møter mellom mennesker så vel som i lovgivning og sosiale strukturer. I en verden hvor menneskeverdet blir mer og mer utfordret\, blir det viktig å se nærmere...
LOCATION:St. Franciskus skole\,
END:VEVENT
END:VCALENDAR
