BEGIN:VCALENDAR
VERSION:2.0
PRODID:-//Katolsk//Calendar//EN
BEGIN:VEVENT
UID:62e86cb3eac8fd78d6aac9117211dc2c
SUMMARY:NUK: Adventsaksjonen 2025 informasjonsdag
DTSTAMP:20260421T162649Z
DTSTART:20251112T160000Z
DTEND:20251112T180000Z
DESCRIPTION:   Norges Unge Katolikker inviterer til årets Adventsaksjon informasjonsdag online! Her får du høre om Adventsaksjonen 2025\, med informasjon om prosjektet\, tips til gjennomføring lokalt\, og du får mulighet til å stille spørsmål. Arrangementet er åpent for alle\, men vi anbefaler spesielt lokallagsledere\, ungdomsarbeidere og distriktsrepresentanter til å delta. Årets aksjon støtter St. Joseph Marist School i Bujumbura\, Burundi. Målet er å gi over 600 barn og unge tilgang til e...
LOCATION:Digitalt
END:VEVENT
END:VCALENDAR
